BEGIN:VCALENDAR
VERSION:2.0
CALSCALE:GREGORIAN
METHOD:REQUEST
PRODID:Erie Events
BEGIN:VEVENT
UID: 649669e74ae6ab94c@
SUMMARY:Bugs Bunny Returns
DTSTAMP:20260421T060110
DTSTART:20190921T200000
DTEND:20190921T200000
LOCATION:
DESCRIPTION: <br />
<br />
September 21, 2019<br />
<br />
Warner Theatre<br />
<br />
2:30pm &amp; 8:00pm<br />
<br />
World Premiere!! Everyone&#039;s favorite Wascally Wabbit  returns to the Warner Theatre with the new 30th Anniversary Edition of this record-setting concert, which has played to rave reviews and millions of cheering audience members world-wide for three decades. Don&#039;t miss the world&#039;s most beloved Looney Tunes on the big screen, while their iconic original scores are played LIVE by the Erie Philharmonic. <br />
<br />
Be a part of the very  first audiences on the planet to see this new production -- filled with brilliant classics as well as amazing new surprises.  These concerts will sell out early!<br />
<br />
Conducted by George Daugherty<br />
Created by George Daugherty &amp; David Ka Lik Wong<br />
<br />
www.eriephil.org
STATUS:CONFIRMED
SEQUENCE:3
END:VEVENT
END:VCALENDAR