BEGIN:VCALENDAR
VERSION:2.0
CALSCALE:GREGORIAN
METHOD:REQUEST
PRODID:Erie Events
BEGIN:VEVENT
UID: 632369e791e9b77a4@
SUMMARY:Beethoven&#039;s Ode To Joy
DTSTAMP:20260421T110409
DTSTART:20200616T200000
DTEND:20200616T200000
LOCATION:
DESCRIPTION: <br />
<br />
June 16, 2020: 8:00pm<br />
<br />
The Theatre in Erie Insurance Arena <br />
<br />
 <br />
<br />
Tian Rise (co-commission)<br />
<br />
Beethoven Symphony No. 9 Erie Philharmonic Chorus<br />
<br />
 <br />
<br />
For tickets, call (814) 455-1375<br />
<br />
www.eriephil.org
STATUS:CONFIRMED
SEQUENCE:3
END:VEVENT
END:VCALENDAR