BEGIN:VCALENDAR
VERSION:2.0
CALSCALE:GREGORIAN
METHOD:REQUEST
PRODID:Erie Events
BEGIN:VEVENT
UID: 1914069ebb0507bcfe@
SUMMARY:Pines Of Rome
DTSTAMP:20260424T140256
DTSTART:20191116T200000
DTEND:20191116T200000
LOCATION:
DESCRIPTION:November 16, 2019<br />
<br />
Warner Theatre 8pm<br />
<br />
Beethoven Leonore Overture No. 3<br />
<br />
Meyer Concerto for Double Bass<br />
<br />
Bottesini Concerto for Double Bass Edgar Meyer, 5-time Grammy-winning artist<br />
<br />
Respighi Pines of Rome<br />
<br />
www.eriephil.org
STATUS:CONFIRMED
SEQUENCE:3
END:VEVENT
END:VCALENDAR