BEGIN:VCALENDAR
VERSION:2.0
CALSCALE:GREGORIAN
METHOD:REQUEST
PRODID:Erie Events
BEGIN:VEVENT
UID: 673969e73d009d452@
SUMMARY:Shostakovich 5
DTSTAMP:20260421T050152
DTSTART:20191005T200000
DTEND:20191005T200000
LOCATION:
DESCRIPTION:October 5, 2019<br />
<br />
Warner Theatre 8pm<br />
<br />
Ravel Alborada del gracioso<br />
<br />
Beethoven Piano Concerto No. 1 Andrew Tyson, piano<br />
<br />
Shostakovich Symphony No. 5<br />
<br />
www.eriephil.org
STATUS:CONFIRMED
SEQUENCE:3
END:VEVENT
END:VCALENDAR