BEGIN:VCALENDAR
VERSION:2.0
CALSCALE:GREGORIAN
METHOD:REQUEST
PRODID:Erie Events
BEGIN:VEVENT
UID: 2898669e704a7242bb@
SUMMARY:Erie SeaWolves vs. Trenton Thunder
DTSTAMP:20260421T010127
DTSTART:20190726T190500
DTEND:20190726T190500
LOCATION:
DESCRIPTION:Call (814) 456-1300 for tickets<br />
<br />
www.seawolves.com
STATUS:CONFIRMED
SEQUENCE:3
END:VEVENT
END:VCALENDAR