BEGIN:VCALENDAR
VERSION:2.0
CALSCALE:GREGORIAN
METHOD:REQUEST
PRODID:Erie Events
BEGIN:VEVENT
UID: 1926369ecd45e127a9@
SUMMARY:Erie SeaWolves vs. Harrisburg Senators
DTSTAMP:20260425T104902
DTSTART:20190627T190500
DTEND:20190627T190500
LOCATION:
DESCRIPTION:Call (814) 456-1300 for tickets<br />
<br />
www.seawolves.com
STATUS:CONFIRMED
SEQUENCE:3
END:VEVENT
END:VCALENDAR