BEGIN:VCALENDAR
VERSION:2.0
CALSCALE:GREGORIAN
METHOD:REQUEST
PRODID:Erie Events
BEGIN:VEVENT
UID: 1447069ecd3973965a@
SUMMARY:Erie SeaWolves vs. Portland Sea Dogs 
DTSTAMP:20260425T104543
DTSTART:20190619T120500
DTEND:20190619T120500
LOCATION:
DESCRIPTION:Call (814) 456-1300 for tickets<br />
<br />
www.seawolves.com
STATUS:CONFIRMED
SEQUENCE:3
END:VEVENT
END:VCALENDAR