BEGIN:VCALENDAR
VERSION:2.0
CALSCALE:GREGORIAN
METHOD:REQUEST
PRODID:Erie Events
BEGIN:VEVENT
UID: 1365769eccf86c7fef@
SUMMARY:Erie SeaWolves vs. Akron RubberDucks
DTSTAMP:20260425T102822
DTSTART:20190602T133500
DTEND:20190602T133500
LOCATION:
DESCRIPTION:Call (814) 456-1300 for tickets<br />
<br />
www.seawolves.com
STATUS:CONFIRMED
SEQUENCE:3
END:VEVENT
END:VCALENDAR