BEGIN:VCALENDAR
VERSION:2.0
CALSCALE:GREGORIAN
METHOD:REQUEST
PRODID:Erie Events
BEGIN:VEVENT
UID: 750169e71598a941f@
SUMMARY:Erie SeaWolves vs. Trenton Thunder
DTSTAMP:20260421T021344
DTSTART:20190405T180500
DTEND:20190405T180500
LOCATION:
DESCRIPTION:Call (814) 456-1300 for tickets<br />
<br />
www.seawolves.com<br />
<br />
 
STATUS:CONFIRMED
SEQUENCE:3
END:VEVENT
END:VCALENDAR