BEGIN:VCALENDAR
VERSION:2.0
CALSCALE:GREGORIAN
METHOD:REQUEST
PRODID:Erie Events
BEGIN:VEVENT
UID: 50669e7173a37b1d@
SUMMARY:Lake Erie National Cheer &amp; Dance Championships
DTSTAMP:20260421T022042
DTSTART:20190407T000000
DTEND:20190407T000000
LOCATION:
DESCRIPTION:April 6 &amp; 7, 2019<br />
<br />
Erie Insurance Arena<br />
<br />
 <br />
<br />
Champion Cheer Central Inc. will host its annual Lake Erie National Cheer and Dance Championships at the Erie Insurance Arena on Saturday, April 6 and Sunday, April 7. The national event will see more than 1,500 athletes compete from throughout the Great Lakes and Northeast regions. The event will feature all-star cheer and dance teams, as well as school and recreational cheer and dance teams.<br />
<br />
The event is being held as part of Champion Cheer Central&#039;s &quot;Champions Weekend&quot;, with the Champions of Dance all-dance championship being hosted at the Bayfront Convention Center on Saturday, April 6. <br />
<br />
Admission for spectators is $15 for adults and $10 for children. Admission is free for children under 5.
STATUS:CONFIRMED
SEQUENCE:3
END:VEVENT
BEGIN:VEVENT
UID: 50669e7173a37b1d@
SUMMARY:Lake Erie National Cheer &amp; Dance Championships
DTSTAMP:20260421T022042
DTSTART:20190406T000000
DTEND:20190406T000000
LOCATION:
DESCRIPTION:April 6 &amp; 7, 2019<br />
<br />
Erie Insurance Arena<br />
<br />
 <br />
<br />
Champion Cheer Central Inc. will host its annual Lake Erie National Cheer and Dance Championships at the Erie Insurance Arena on Saturday, April 6 and Sunday, April 7. The national event will see more than 1,500 athletes compete from throughout the Great Lakes and Northeast regions. The event will feature all-star cheer and dance teams, as well as school and recreational cheer and dance teams.<br />
<br />
The event is being held as part of Champion Cheer Central&#039;s &quot;Champions Weekend&quot;, with the Champions of Dance all-dance championship being hosted at the Bayfront Convention Center on Saturday, April 6. <br />
<br />
Admission for spectators is $15 for adults and $10 for children. Admission is free for children under 5.
STATUS:CONFIRMED
SEQUENCE:3
END:VEVENT
END:VCALENDAR