BEGIN:VCALENDAR
VERSION:2.0
CALSCALE:GREGORIAN
METHOD:REQUEST
PRODID:Erie Events
BEGIN:VEVENT
UID: 1592169e5a830bd422@
SUMMARY:Wine On The Lake
DTSTAMP:20260420T001440
DTSTART:20190223T130000
DTEND:20190223T160000
LOCATION:
DESCRIPTION:Wine On The Lake<br />
<br />
February 23, 2019<br />
<br />
Bayfront Convention Center<br />
<br />
Day Session 1pm-4pm<br />
<br />
Admission $35<br />
<br />
VIP $50<br />
<br />
Evening Session 6pm-9pm<br />
<br />
Admission $40<br />
<br />
VIP $50<br />
<br />
Tickets: www.wineonthelake.com
STATUS:CONFIRMED
SEQUENCE:3
END:VEVENT
END:VCALENDAR