BEGIN:VCALENDAR
VERSION:2.0
CALSCALE:GREGORIAN
METHOD:REQUEST
PRODID:Erie Events
BEGIN:VEVENT
UID: 38169e5a761e6463@
SUMMARY:Knock Out Homelessness Boxing Match
DTSTAMP:20260420T001113
DTSTART:20190219T180000
DTEND:20190219T213000
LOCATION:
DESCRIPTION:Erie City Mission<br />
<br />
Knock Out Homelessness Boxing Match<br />
<br />
February 19, 2019<br />
<br />
5:30pm Doors<br />
<br />
6pm-9:30pm Dinner &amp; Exhibitions<br />
<br />
Bayfront Convention Center<br />
<br />
General Admission $40<br />
<br />
Table of (10) $350<br />
<br />
Gold Ticket $100<br />
<br />
For tickets &amp; information, call (814) 452-4421 ext. 234
STATUS:CONFIRMED
SEQUENCE:3
END:VEVENT
END:VCALENDAR