BEGIN:VCALENDAR
VERSION:2.0
CALSCALE:GREGORIAN
METHOD:REQUEST
PRODID:Erie Events
BEGIN:VEVENT
UID: 424369e5aa03aebc2@
SUMMARY:Wizard Of Oz
DTSTAMP:20260420T002227
DTSTART:20190210T143000
DTEND:20190210T143000
LOCATION:
DESCRIPTION:The Wizard of Oz<br />
<br />
February 9 - 8PM<br />
<br />
February 10 - 2:30pm<br />
<br />
Warner Theatre <br />
<br />
Join Dorothy, Tin Man, Scarecrow, Cowardly Lion and Toto on their epic journey from Kansas to the Land of Oz in this 1939 MGM cinematic masterpiece.  See the classic film come to life in a crisp print projected above the Warner Theatre stage while the musicians of your Erie Philharmonic play the full score live in perfect synchronization with the original film. With Saturday evening and Sunday matinée concerts, the entire family will enjoy this experience! <br />
<br />
Our previous movie concerts have sold out quickly, so don’t miss this chance to see one of the most iconic films in history in Erie’s original movie palace, the Warner Theatre.<br />
<br />
 <br />
<br />
Tickets can be purchased by calling (814) 455-1375<br />
<br />
www.eriephil.org
STATUS:CONFIRMED
SEQUENCE:3
END:VEVENT
END:VCALENDAR