BEGIN:VCALENDAR
VERSION:2.0
CALSCALE:GREGORIAN
METHOD:REQUEST
PRODID:Erie Events
BEGIN:VEVENT
UID: 1659469e716b426c04@
SUMMARY:Brahms Requiem
DTSTAMP:20260421T021828
DTSTART:20190413T080000
DTEND:20190413T080000
LOCATION:
DESCRIPTION:Brahms Requiem<br />
<br />
April 13 - 8PM<br />
<br />
Warner Theatre<br />
<br />
Beethoven String Quartet, ‘Serioso’, (arr. Mahler)<br />
<br />
Brahms Ein deutsches Requiem<br />
<br />
Erie Philharmonic Chorus<br />
<br />
Tickets can be purchased by calling (814) 455-1375<br />
<br />
www.eriephil.org
STATUS:CONFIRMED
SEQUENCE:3
END:VEVENT
END:VCALENDAR