BEGIN:VCALENDAR
VERSION:2.0
CALSCALE:GREGORIAN
METHOD:REQUEST
PRODID:Erie Events
BEGIN:VEVENT
UID: 296369e693ab0d377@
SUMMARY:Symphonie Fantastique
DTSTAMP:20260420T165923
DTSTART:20190309T200000
DTEND:20190309T200000
LOCATION:
DESCRIPTION:Symphonie Fantastique<br />
<br />
March 9 - 8PM<br />
<br />
Warner Theatre<br />
<br />
Torke Javelin<br />
<br />
Prokofiev Violin Concerto No. 1<br />
<br />
Ravel Tzigane<br />
<br />
Simone Porter, violin<br />
<br />
Berlioz Symphonie Fantastique<br />
<br />
Tickets can be purchased by calling (814) 455-1375<br />
<br />
www.eriephil.org
STATUS:CONFIRMED
SEQUENCE:3
END:VEVENT
END:VCALENDAR