BEGIN:VCALENDAR
VERSION:2.0
CALSCALE:GREGORIAN
METHOD:REQUEST
PRODID:Erie Events
BEGIN:VEVENT
UID: 817769eca24fa8e19@
SUMMARY:Tracy Lawrence
DTSTAMP:20260425T071527
DTSTART:20261015T193000
DTEND:20261015T193000
LOCATION:811 State Street Erie, PA 16501
DESCRIPTION:October 15, 2026<br />
Show 7:30pm<br />
Doors 6:30pm<br />
<br />
Warner Theatre<br />
<br />
With special guest Chandler Walters<br />
<br />
Country hitmaker Tracy Lawrence brings his No Alibis Tour to the stage, celebrating a career that includes 13 million albums sold and 18 No. 1 hits. A CMA and ACM award winner, Lawrence delivers a night packed with fan favorites and new music, including tracks from his latest Out Here In It EP. Don’t miss this chance to see one of country music’s most enduring artists live.<br />
<br />
VENUE PRESALE<br />
4/23 10am - 4/23 10pm<br />
<br />
BUY TICKETS<br />
<br />
ON SALE<br />
4/24 10am<br />
<br />
BUY TICKETS
STATUS:CONFIRMED
SEQUENCE:3
END:VEVENT
END:VCALENDAR