BEGIN:VCALENDAR
VERSION:2.0
CALSCALE:GREGORIAN
METHOD:REQUEST
PRODID:Erie Events
BEGIN:VEVENT
UID: 589369ece696e74ee@
SUMMARY:Long&#039;s School Of Dance
DTSTAMP:20260425T120646
DTSTART:20260612T190000
DTEND:20260612T190000
LOCATION:811 State Street Erie, PA 16501
DESCRIPTION:June 12 &amp; 13, 2026<br />
Show 7:00pm<br />
Doors 6:00pm<br />
<br />
Warner Theatre<br />
<br />
Tickets go on sale May 11 at 10:00am<br />
<br />
Purchase ticket at the Erie Insurance Arena box office or by calling (814) 452-4857<br />
<br />
FRIDAY PERFORMANCE <br />
<br />
BUY TICKETS<br />
<br />
SATURDAY PERFORMANCE<br />
<br />
BUY TICKETS<br />
<br />
 
STATUS:CONFIRMED
SEQUENCE:3
END:VEVENT
END:VCALENDAR