BEGIN:VCALENDAR
VERSION:2.0
CALSCALE:GREGORIAN
METHOD:REQUEST
PRODID:Erie Events
BEGIN:VEVENT
UID: 474269eccfdec26a7@
SUMMARY:Spotlight Dance Spectacular
DTSTAMP:20260425T102950
DTSTART:20260620T190000
DTEND:20260620T190000
LOCATION:811 State Street Erie, PA 16501
DESCRIPTION:June 20, 2026<br />
Shows 2:00pm &amp; 7:00pm<br />
Doors 1:00pm &amp; 6:00pm <br />
<br />
Warner Theatre<br />
<br />
Tickets go on sale April 3 at 10:00am.<br />
<br />
Purchase tickets at Erie Insurance Arena box office or by calling (814) 452-4857<br />
<br />
2:00PM SHOW<br />
<br />
BUY TICKETS<br />
<br />
7:00PM SHOW<br />
<br />
BUY TICKETS
STATUS:CONFIRMED
SEQUENCE:3
END:VEVENT
END:VCALENDAR