BEGIN:VCALENDAR
VERSION:2.0
CALSCALE:GREGORIAN
METHOD:REQUEST
PRODID:Erie Events
BEGIN:VEVENT
UID: 1337369e753b2da4f3@
SUMMARY:Erie Kennel Club Dog Show ** CANCELLED**
DTSTAMP:20260421T063842
DTSTART:20260124T080000
DTEND:20260124T180000
LOCATION:1 Sassafras Pier Erie, PA 16507
DESCRIPTION:Due to the predicted inclement weather, this event has been cancelled
STATUS:CONFIRMED
SEQUENCE:3
END:VEVENT
END:VCALENDAR