BEGIN:VCALENDAR
VERSION:2.0
CALSCALE:GREGORIAN
METHOD:REQUEST
PRODID:Erie Events
BEGIN:VEVENT
UID: 644069e7639ec56ff@
SUMMARY:Bridal Show
DTSTAMP:20260421T074638
DTSTART:20260118T110000
DTEND:20260118T150000
LOCATION:1 Sassafras Pier Erie, PA 16507
DESCRIPTION:January 18, 2026<br />
11am-3pm<br />
<br />
Bayfront Convention Center<br />
<br />
Free &amp; open to the public<br />
<br />
Must register in advance here<br />
<br />
 
STATUS:CONFIRMED
SEQUENCE:3
END:VEVENT
END:VCALENDAR