BEGIN:VCALENDAR
VERSION:2.0
CALSCALE:GREGORIAN
METHOD:REQUEST
PRODID:Erie Events
BEGIN:VEVENT
UID: 645069e7645367550@
SUMMARY:Stars &amp; Stripes Coed Gymnastics Invitational
DTSTAMP:20260421T074939
DTSTART:20260116T080000
DTEND:20260116T080000
LOCATION:1 Sassafras Pier Erie, PA 16507
DESCRIPTION:January 16-18, 2026<br />
<br />
Bayfront Convention Center<br />
<br />
Adults $20.00<br />
<br />
Children ages 3-17 $10.00<br />
<br />
Children under 3 are free<br />
<br />
Adult weekend pass $30.00
STATUS:CONFIRMED
SEQUENCE:3
END:VEVENT
END:VCALENDAR