BEGIN:VCALENDAR
VERSION:2.0
CALSCALE:GREGORIAN
METHOD:REQUEST
PRODID:Erie Events
BEGIN:VEVENT
UID: 1306869e766f57df10@
SUMMARY:The Magic Of Motown *CANCELLED*
DTSTAMP:20260421T080053
DTSTART:20260117T193000
DTEND:20260117T193000
LOCATION:811 State Street Erie, PA 16501
DESCRIPTION:THIS SHOW IS CANCELLED. REFUNDS ARE AVAILABLE AT THE POINT OF PURCHASE. <br />
<br />
Please call the Erie Insurance Arena box office with questions at (814) 452-4857
STATUS:CONFIRMED
SEQUENCE:3
END:VEVENT
END:VCALENDAR