BEGIN:VCALENDAR
VERSION:2.0
CALSCALE:GREGORIAN
METHOD:REQUEST
PRODID:Erie Events
BEGIN:VEVENT
UID: 1389469ed17cff3379@
SUMMARY:Grace Church Christmas At The Warner
DTSTAMP:20260425T153648
DTSTART:20251222T170000
DTEND:20251222T170000
LOCATION:811 State Street Erie, PA 16501
DESCRIPTION:December 22, 2025<br />
5:00pm, 7:30pm<br />
<br />
December 23, 2025<br />
3:00pm, 5:30pm, 8:00pm<br />
<br />
Warner Theatre <br />
<br />
One of Erie’s favorite Christmas traditions is back for the tenth year at the Warner Theater!<br />
<br />
Join us for Christmas at the Warner, a free Christmas event in Erie, PA, happening December 22 and 23.<br />
<br />
Brought to you by Grace Church, Christmas at the Warner is an evening filled with your favorite carols, awe-inspiring creative moments, and a message of hope. It’s the perfect way for you and the entire family to celebrate the traditions of Christmas.<br />
<br />
Bring your family, invite your friends, and share in this unforgettable experience. All are welcome!<br />
<br />
Come home for Christmas…we can’t wait to see you there.<br />
<br />
Free &amp; open to the public
STATUS:CONFIRMED
SEQUENCE:3
END:VEVENT
END:VCALENDAR