BEGIN:VCALENDAR
VERSION:2.0
CALSCALE:GREGORIAN
METHOD:REQUEST
PRODID:Erie Events
BEGIN:VEVENT
UID: 1445069ed2ed450e37@
SUMMARY:A Magical Motown Christmas *POSTPONED TO JANUARY 17, 2026*
DTSTAMP:20260425T171500
DTSTART:20251129T193000
DTEND:20251129T193000
LOCATION:811 State Street Erie, PA 16501
DESCRIPTION:THIS SHOW HAS BEEN POSTPONED TO JANUARY 17, 2026 <br />
Refunds eligible until 12/31/2025BUY TICKETS
STATUS:CONFIRMED
SEQUENCE:3
END:VEVENT
END:VCALENDAR