BEGIN:VCALENDAR
VERSION:2.0
CALSCALE:GREGORIAN
METHOD:REQUEST
PRODID:Erie Events
BEGIN:VEVENT
UID: 308369e73f6e17563@
SUMMARY:Bored Teachers: &quot;Is It Friday, Yet?!&quot; Comedy Tour
DTSTAMP:20260421T051214
DTSTART:20260322T150000
DTEND:20260322T150000
LOCATION:811 State Street Erie, PA 16501
DESCRIPTION:March 22, 2026<br />
Show 3:00pm<br />
Doors 2:00pm<br />
<br />
Warner Theatre<br />
<br />
They’ve graded the papers, survived the staff meetings, and lost their last ounce of patience… and now they’re taking it out on stage!<br />
<br />
Bored Teachers is BACK with brand-new jokes, bigger laughs, and the most relatable teacher comedy you’ll ever hear. For nearly a decade, Bored Teachers has been the #1 voice of teacher humor—racking up over 1 billion views, amassing 10 million+ followers, and hosting the #1 teacher-comedy podcast on the planet.<br />
<br />
Since 2022, they’ve performed for 200,000+ teachers worldwide, and sold out 200+ theaters across 49 states, 5 countries, and 3 continents. Their BRAND NEW “Is It Friday Yet?!”” Tour starting January 2026 is more than a comedy show—it’s the ultimate night of laughter and solidarity for anyone who’s ever worked in education, taught a lesson, or just survived parent-teacher conferences.<br />
<br />
Get ready to laugh until you cry as the funniest teacher-comedians in the world share their side-splitting stories, savage truths, and hilarious classroom confessions. Whether you’re a teacher, a parent, or just someone who’s been in school, this show will have you nodding, clapping, and hollering, “That’s SO TRUE!”<br />
<br />
Warning: May contain PG-13 language, teacher truths, and uncontrollable fits of laughter.<br />
<br />
Tickets can be purchased at the Erie Insurance Arena box office or by calling (814) 452-4857<br />
<br />
BUY TICKETS<br />
<br />
www.boredteachers.com<br />
<br />
 
STATUS:CONFIRMED
SEQUENCE:3
END:VEVENT
END:VCALENDAR