BEGIN:VCALENDAR
VERSION:2.0
CALSCALE:GREGORIAN
METHOD:REQUEST
PRODID:Erie Events
BEGIN:VEVENT
UID: 142769e73a98746ed@
SUMMARY:Great Lakes Beach Glass &amp; Coastal Arts Festival
DTSTAMP:20260421T045136
DTSTART:20251012T100000
DTEND:20251012T160000
LOCATION:1 Sassafras Pier Erie, PA 16507
DESCRIPTION:Saturday, October 11, 2025<br />
10am-5pm<br />
Sunday, October 12, 2025<br />
10am-4pm<br />
<br />
Bayfront Convention Center<br />
<br />
Single day<br />
 $10.00<br />
Weekend pass<br />
 $17.50<br />
VIP early entry at 9am on Saturday only<br />
$7.50<br />
Children 5 &amp; under are free<br />
<br />
SATURDAY<br />
<br />
BUY TICKETS<br />
<br />
SUNDAY<br />
<br />
BUY TICKETS<br />
<br />
WEEKEND PASS<br />
<br />
BUY TICKETS<br />
<br />
 <br />
<br />
 <br />
<br />
 
STATUS:CONFIRMED
SEQUENCE:3
END:VEVENT
END:VCALENDAR