BEGIN:VCALENDAR
VERSION:2.0
CALSCALE:GREGORIAN
METHOD:REQUEST
PRODID:Erie Events
BEGIN:VEVENT
UID: 820869e766ef332ec@
SUMMARY:Erie Otters vs Saginaw
DTSTAMP:20260421T080047
DTSTART:20260117T190000
DTEND:20260117T190000
LOCATION:809 French St. Erie, PA 16501
DESCRIPTION:January 17, 2026<br />
Game 7:00pm<br />
Doors 6:00pm<br />
<br />
Erie Insurance Arena<br />
<br />
Tickets at the Erie Insurance Arena box office or by calling (814) 452-4857<br />
<br />
BUY TICKETS<br />
<br />
www.ottershockey.com
STATUS:CONFIRMED
SEQUENCE:3
END:VEVENT
END:VCALENDAR