BEGIN:VCALENDAR
VERSION:2.0
CALSCALE:GREGORIAN
METHOD:REQUEST
PRODID:Erie Events
BEGIN:VEVENT
UID: 202369ed18481ce23@
SUMMARY:Erie Otters vs Brantford
DTSTAMP:20260425T153848
DTSTART:20251231T180000
DTEND:20251231T180000
LOCATION:809 French St. Erie, PA 16501
DESCRIPTION:December 31, 2025<br />
Game 6:00pm<br />
Doors 5:00pm<br />
<br />
Erie Insurance Arena<br />
<br />
Tickets at the Erie Insurance Arena box office or by calling (814) 452-4857<br />
<br />
BUY TICKETS<br />
<br />
www.ottershockey.com
STATUS:CONFIRMED
SEQUENCE:3
END:VEVENT
END:VCALENDAR