BEGIN:VCALENDAR
VERSION:2.0
CALSCALE:GREGORIAN
METHOD:REQUEST
PRODID:Erie Events
BEGIN:VEVENT
UID: 703169e73c380989a@
SUMMARY:Tall Ships Erie 2025
DTSTAMP:20260421T045832
DTSTART:20250824T000000
DTEND:20250824T000000
LOCATION:1 Sassafras Pier Erie, PA 16507
DESCRIPTION:August 21-24, 2025<br />
<br />
Bayfront Convention Center<br />
<br />
The Tall Ships Erie Festival is a premier maritime event taking place from August 21-24 at the Bayfront Convention Center. This festival features a fleet of majestic tall ships, including Erie’s own Lettie G Howard. Attendees can enjoy deck tours, day sails, and a variety of attractions such as food and drink vendors, a kids zone, live music, and educational lectures.<br />
<br />
Recognized as Tall Ships America’s Port of the Year, the festival promises an unforgettable experience for all ages.<br />
<br />
For more information or to purchase tickets, visit tallshipserie.org
STATUS:CONFIRMED
SEQUENCE:3
END:VEVENT
BEGIN:VEVENT
UID: 703169e73c380989a@
SUMMARY:Tall Ships Erie 2025
DTSTAMP:20260421T045832
DTSTART:20250823T000000
DTEND:20250823T000000
LOCATION:1 Sassafras Pier Erie, PA 16507
DESCRIPTION:August 21-24, 2025<br />
<br />
Bayfront Convention Center<br />
<br />
The Tall Ships Erie Festival is a premier maritime event taking place from August 21-24 at the Bayfront Convention Center. This festival features a fleet of majestic tall ships, including Erie’s own Lettie G Howard. Attendees can enjoy deck tours, day sails, and a variety of attractions such as food and drink vendors, a kids zone, live music, and educational lectures.<br />
<br />
Recognized as Tall Ships America’s Port of the Year, the festival promises an unforgettable experience for all ages.<br />
<br />
For more information or to purchase tickets, visit tallshipserie.org
STATUS:CONFIRMED
SEQUENCE:3
END:VEVENT
BEGIN:VEVENT
UID: 703169e73c380989a@
SUMMARY:Tall Ships Erie 2025
DTSTAMP:20260421T045832
DTSTART:20250822T000000
DTEND:20250822T000000
LOCATION:1 Sassafras Pier Erie, PA 16507
DESCRIPTION:August 21-24, 2025<br />
<br />
Bayfront Convention Center<br />
<br />
The Tall Ships Erie Festival is a premier maritime event taking place from August 21-24 at the Bayfront Convention Center. This festival features a fleet of majestic tall ships, including Erie’s own Lettie G Howard. Attendees can enjoy deck tours, day sails, and a variety of attractions such as food and drink vendors, a kids zone, live music, and educational lectures.<br />
<br />
Recognized as Tall Ships America’s Port of the Year, the festival promises an unforgettable experience for all ages.<br />
<br />
For more information or to purchase tickets, visit tallshipserie.org
STATUS:CONFIRMED
SEQUENCE:3
END:VEVENT
BEGIN:VEVENT
UID: 703169e73c380989a@
SUMMARY:Tall Ships Erie 2025
DTSTAMP:20260421T045832
DTSTART:20250821T000000
DTEND:20250821T000000
LOCATION:1 Sassafras Pier Erie, PA 16507
DESCRIPTION:August 21-24, 2025<br />
<br />
Bayfront Convention Center<br />
<br />
The Tall Ships Erie Festival is a premier maritime event taking place from August 21-24 at the Bayfront Convention Center. This festival features a fleet of majestic tall ships, including Erie’s own Lettie G Howard. Attendees can enjoy deck tours, day sails, and a variety of attractions such as food and drink vendors, a kids zone, live music, and educational lectures.<br />
<br />
Recognized as Tall Ships America’s Port of the Year, the festival promises an unforgettable experience for all ages.<br />
<br />
For more information or to purchase tickets, visit tallshipserie.org
STATUS:CONFIRMED
SEQUENCE:3
END:VEVENT
END:VCALENDAR