BEGIN:VCALENDAR
VERSION:2.0
CALSCALE:GREGORIAN
METHOD:REQUEST
PRODID:Erie Events
BEGIN:VEVENT
UID: 1194269ed1831a2dc2@
SUMMARY:Come Home for the Holidays
DTSTAMP:20260425T153825
DTSTART:20251206T193000
DTEND:20251206T193000
LOCATION:811 State Street Erie, PA 16501
DESCRIPTION:December 6, 2025<br />
7:30pm<br />
<br />
December 7, 2025<br />
3:00pm<br />
<br />
Warner Theatre<br />
<br />
An Erie Philharmonic Pops Concert<br />
<br />
An annual holiday tradition, the Philharmonic invites you to come home for the holidays. Celebrate the joy of the season with special guests, the Philharmonic Choruses, and ballet dancers.<br />
<br />
For tickets &amp; more information, www.eriephil.org
STATUS:CONFIRMED
SEQUENCE:3
END:VEVENT
END:VCALENDAR