BEGIN:VCALENDAR
VERSION:2.0
CALSCALE:GREGORIAN
METHOD:REQUEST
PRODID:Erie Events
BEGIN:VEVENT
UID: 2534069ebf2e9e4d49@
SUMMARY:Moonlight On The Bay
DTSTAMP:20260424T184705
DTSTART:20250905T000000
DTEND:20250905T000000
LOCATION:
DESCRIPTION:September 5, 2025<br />
<br />
Rebich Investments Amphitheater at Liberty Park<br />
<br />
Click HERE for more information &amp; to buy tickets
STATUS:CONFIRMED
SEQUENCE:3
END:VEVENT
END:VCALENDAR