BEGIN:VCALENDAR
VERSION:2.0
CALSCALE:GREGORIAN
METHOD:REQUEST
PRODID:Erie Events
BEGIN:VEVENT
UID: 32469e77f10d6164@
SUMMARY:Pride On The Bay
DTSTAMP:20260421T094344
DTSTART:20250628T120000
DTEND:20250628T170000
LOCATION:828 W Bayfront Pkwy. Erie, PA 16507
DESCRIPTION:June 28, 2025<br />
12:00pm - 5:00pm<br />
<br />
Rebich Investments Amphitheater at Liberty Park<br />
<br />
Experience the energy and excitement of Pride on the Bay, hosted by NWPA Pride Alliance! Join us at Liberty Park for a day of celebration, community, and LGBTQIA+ visibility. Enjoy live music, entertainment, food vendors, and opportunities to connect with local organizations.<br />
<br />
Pride on the Bay is a chance to celebrate our achievements, honor our history, and build a brighter future together. All are welcome!<br />
<br />
Click HERE for more information. 
STATUS:CONFIRMED
SEQUENCE:3
END:VEVENT
END:VCALENDAR