BEGIN:VCALENDAR
VERSION:2.0
CALSCALE:GREGORIAN
METHOD:REQUEST
PRODID:Erie Events
BEGIN:VEVENT
UID: 1320469e73f2c33d7d@
SUMMARY:Erie Roller Derby 
DTSTAMP:20260421T051108
DTSTART:20250628T173000
DTEND:20250628T173000
LOCATION:1 Sassafras Pier Erie, PA 16507
DESCRIPTION:June 28, 2025<br />
<br />
First Whistle 5:30pm<br />
Doors 4:30pm<br />
<br />
Bayfront Convention Center <br />
<br />
ERD is kicking off the action-packed 2025 season with the yearly Pride bout<br />
<br />
First Erie Roller Derby All-Stars will take on the Appalachian Hell Betties from Athens, Ohio. Directly after our first bout, ERD&#039;s Bayfront Bombshells will hit the track versus the Black Diamonds Betties. Two leagues, four teams, one great event you don&#039;t want to miss!<br />
<br />
 <br />
<br />
Advance tickets $10.00<br />
<br />
BUY TICKETS<br />
<br />
At The Door $15.00<br />
<br />
Children 10 &amp; under free 
STATUS:CONFIRMED
SEQUENCE:3
END:VEVENT
END:VCALENDAR