BEGIN:VCALENDAR
VERSION:2.0
CALSCALE:GREGORIAN
METHOD:REQUEST
PRODID:Erie Events
BEGIN:VEVENT
UID: 1209269e73a827c2c3@
SUMMARY:Bayfront Brawl 17
DTSTAMP:20260421T045114
DTSTART:20250802T180000
DTEND:20250802T180000
LOCATION:1 Sassafras Pier Erie, PA 16507
DESCRIPTION:August 2, 2025<br />
<br />
Boxing 6:00pm<br />
MMA 8:00pm<br />
<br />
Bayfront Convention Center<br />
<br />
Tables $800.00<br />
<br />
VIP Ringside $75.00<br />
General Admission $40.00<br />
<br />
Tickets can be purchased at the Erie Insurance Arena box office or by calling (814) 452-4857<br />
<br />
BUY TICKETS<br />
<br />
Tables must be purchased in person at the box office or by calling (814) 452-4857<br />
<br />
View seating chart HERE
STATUS:CONFIRMED
SEQUENCE:3
END:VEVENT
END:VCALENDAR