BEGIN:VCALENDAR
VERSION:2.0
CALSCALE:GREGORIAN
METHOD:REQUEST
PRODID:Erie Events
BEGIN:VEVENT
UID: 971969e73c7527613@
SUMMARY:Tom Papa: Grateful Bread Tour
DTSTAMP:20260421T045933
DTSTART:20250905T190000
DTEND:20250905T190000
LOCATION:811 State Street Erie, PA 16501
DESCRIPTION:September 5, 2025<br />
Show 7:00pm<br />
Doors 6:00pm<br />
<br />
Warner Theatre<br />
<br />
With more than 20 years as a stand-up comedian, Tom Papa is one of the top comedic voices in<br />
the country, finding success as an actor, host, and author, in film, TV, radio and podcasts as well<br />
as on the live stage.<br />
<br />
The comedian has had 6 highly rated stand-up specials including his most recent Netflix stand-up special, Home Free, which premiered on October 29th. Filmed at the Warner Theatre in Washington, D.C., Tom holds nothing back, as his kids are finally out of the house and it’s just him, his wife and a bunch of animals ready to return to their glory days. Tom has seen a lot over the years, from close calls with a pachinko ball to late night 7-Eleven runs, and he’s sharing all his thoughts as he parties on into the next stage of life. The special trended in the Top 10 TV Shows the first week of release. Papa’s other specials include What A Day!, You’re Doing Great!, Human Mule, Freaked Out and Tom Papa Live in New York City, two of which were directed by Rob Zombie. <br />
<br />
In 2023, Tom released his highly anticipated third book, We’re All In This Together…So Make Some Room. The book compiles comedic essays that aim to unite us through our stupidity. Every mistake has already been made, and this should bring us great comfort as we join together in our fight for survival, or at least in our attempt to get through the day. Whether we like it or not, we&#039;re all in this together.  <br />
<br />
In 2020, he released his second book, You’re Doing Great! - And Other Reasons To Stay Alive, which was the follow-up to Your Dad Stole My Rake: And Other Family Dilemmas both released by St Martin’s Press, making “Summer Must Read” lists from Parade Magazine to The New York Post. Tom is also a contributing writer to the New Yorker Magazine.  <br />
<br />
Tom is the host of the weekly podcast, Breaking Bread with Tom Papa, which features Tom and his guest eating, drinking, and celebrating the true meaning of breaking bread with insightful, revealing and always funny conversations. He also hosts the popular daily Netflix radio show, What A Joke With Papa And Fortune on Sirius XM Channel 93 and the monthly show, Come To Papa Live on Channel 94.  <br />
<br />
Tickets can be purchased at the Erie Insurance Arena box office or by calling (814) 452-4857<br />
<br />
BUY TICKETS<br />
<br />
www.tompapa.com<br />
<br />
 <br />
<br />
 
STATUS:CONFIRMED
SEQUENCE:3
END:VEVENT
END:VCALENDAR