BEGIN:VCALENDAR
VERSION:2.0
CALSCALE:GREGORIAN
METHOD:REQUEST
PRODID:Erie Events
BEGIN:VEVENT
UID: 605869e77f4d3961b@
SUMMARY:Spotlight Studio Spectacular
DTSTAMP:20260421T094445
DTSTART:20250628T140000
DTEND:20250628T140000
LOCATION:811 State Street Erie, PA 16501
DESCRIPTION:June 28, 2025<br />
2:00pm &amp; 7:00pm<br />
<br />
Warner Theatre<br />
<br />
2:00pm performance<br />
<br />
BUY TICKETS<br />
<br />
7:00pm performance<br />
<br />
BUY TICKETS
STATUS:CONFIRMED
SEQUENCE:3
END:VEVENT
END:VCALENDAR