BEGIN:VCALENDAR
VERSION:2.0
CALSCALE:GREGORIAN
METHOD:REQUEST
PRODID:Erie Events
BEGIN:VEVENT
UID: 2831069ea9f4384671@
SUMMARY:Leisuretime Warehouse Spa Show
DTSTAMP:20260423T183755
DTSTART:20250517T100000
DTEND:20250517T200000
LOCATION:1 Sassafras Pier Erie, PA 16507
DESCRIPTION:May 16, 2025<br />
1pm-8pm<br />
May 17, 2025<br />
10am-8pm<br />
May 18, 2025<br />
10am-5pm<br />
<br />
Bayfront Convention Center<br />
<br />
Free &amp; open to the public
STATUS:CONFIRMED
SEQUENCE:3
END:VEVENT
END:VCALENDAR