BEGIN:VCALENDAR
VERSION:2.0
CALSCALE:GREGORIAN
METHOD:REQUEST
PRODID:Erie Events
BEGIN:VEVENT
UID: 579869e73a645b463@
SUMMARY:Cole Swindell: Happy Hour Sad Tour
DTSTAMP:20260421T045044
DTSTART:20250912T190000
DTEND:20250912T190000
LOCATION:809 French St. Erie, PA 16501
DESCRIPTION:September 12, 2025<br />
Show 7:00pm<br />
Doors 6:00pm<br />
<br />
Erie Insurance Arena<br />
<br />
With special guests Priscilla Block and Greylan James<br />
<br />
Multi-Platinum selling and award-winning superstar Cole Swindell will bring his 2025 headlining Happy Hour Sad Tour, to Erie Insurance Arena on Friday, September 12, produced by Pepper Entertainment. Joining the four-time ACM Award winner on his Happy Hour Sad Tour are special guest Priscilla Block and Greylan James. <br />
<br />
The Happy Hour Sad Tour, named after a new song on his upcoming 5th studio album, Spanish Moss, scheduled for release on June 27. Spanish Moss also includes Swindell’s current Top 5 and rising single “Forever To Me,” which he co-wrote (with Greylan James and Rocky Block) in honor of his engagement and wedding to his new bride Courtney last year. The Top 5 single is as relevant for his life now as it now marks and honors the upcoming birth of his first child this fall, a daughter.<br />
<br />
VIP HAPPY HOUR EXPERIENCE $228.96<br />
<br />
One Premium Reserved Seat or GA Floor Ticket<br />
Access to the Cole Swindell Pre-Show Happy Hour featuring:<br />
    Cole Swindell Themed Photo Opportunities<br />
    Games &amp; Activities<br />
    Signing Wall<br />
    One Complimentary Drink Ticket<br />
One Autographed VIP-Exclusive Poster<br />
One VIP-Exclusive Merchandise Item<br />
One Commemorative VIP Laminate<br />
Early Entry<br />
Early Access Merchandise Shopping<br />
<br />
BUY VIP PACKAGE<br />
<br />
PLATINUM SEATING<br />
<br />
BUY PLATINUM SEATING<br />
<br />
Tickets can be purchased at the Erie Insurance Arena box office or by calling (814) 452-4857<br />
<br />
BUY TICKETS
STATUS:CONFIRMED
SEQUENCE:3
END:VEVENT
END:VCALENDAR