BEGIN:VCALENDAR
VERSION:2.0
CALSCALE:GREGORIAN
METHOD:REQUEST
PRODID:Erie Events
BEGIN:VEVENT
UID: 381869ea7f931b11b@
SUMMARY:Erie SeaWolves vs. Hartford
DTSTAMP:20260423T162243
DTSTART:20250524T180500
DTEND:20250524T180500
LOCATION:110 E 10th Street Erie, PA 16502
DESCRIPTION:May 20, 2025; 6:05pm<br />
May 21, 2025; 11:05pm<br />
May 22, 2025; 6:05pm<br />
May 23, 2025; 6:05pm<br />
May 24, 2025; 6:05pm<br />
May 25, 2025; 1:35pm<br />
<br />
UPMC Park<br />
<br />
For tickets, www.seawolves.com
STATUS:CONFIRMED
SEQUENCE:3
END:VEVENT
END:VCALENDAR