BEGIN:VCALENDAR
VERSION:2.0
CALSCALE:GREGORIAN
METHOD:REQUEST
PRODID:Erie Events
BEGIN:VEVENT
UID: 1744169e7af6336411@
SUMMARY:Erie SeaWolves vs. Akron
DTSTAMP:20260421T130955
DTSTART:20250416T130500
DTEND:20250416T130500
LOCATION:110 E 10th Street Erie, PA 16502
DESCRIPTION:April 15, 2025; 6:05pm<br />
April 16, 2025; 1:05pm<br />
April 17, 2025; 6:05pm<br />
April 18, 2025; 6:05pm<br />
April 19, 2025; 1:35pm<br />
April 20, 2025; 1:35pm<br />
<br />
UPMC Park<br />
<br />
For tickets, www.seawolves.com<br />
<br />
 
STATUS:CONFIRMED
SEQUENCE:3
END:VEVENT
END:VCALENDAR