BEGIN:VCALENDAR
VERSION:2.0
CALSCALE:GREGORIAN
METHOD:REQUEST
PRODID:Erie Events
BEGIN:VEVENT
UID: 1183869e4d65a24661@
SUMMARY:Pennsylvania State Pool Tournament
DTSTAMP:20260419T091922
DTSTART:20250308T080000
DTEND:20250308T230000
LOCATION:1 Sassafras Pier Erie, PA 16507
DESCRIPTION:March 7, 2025<br />
12:00pm-11:00pm<br />
March 8, 2025<br />
8:00am-11:00pm<br />
March 9, 2025<br />
8:00am-12:00pm<br />
<br />
Bayfront Convention Center<br />
<br />
$10.00 per day<br />
$20.00 weekend pass<br />
<br />
 
STATUS:CONFIRMED
SEQUENCE:3
END:VEVENT
END:VCALENDAR