BEGIN:VCALENDAR
VERSION:2.0
CALSCALE:GREGORIAN
METHOD:REQUEST
PRODID:Erie Events
BEGIN:VEVENT
UID: 1428469e73b15c5635@
SUMMARY:Pennsylvania State Pool Tournament
DTSTAMP:20260421T045341
DTSTART:20250307T120000
DTEND:20250307T230000
LOCATION:1 Sassafras Pier Erie, PA 16507
DESCRIPTION:March 7, 2025<br />
12:00pm-11:00pm<br />
March 8, 2025<br />
8:00am-11:00pm<br />
March 9, 2025<br />
8:00am-12:00pm<br />
<br />
Bayfront Convention Center<br />
<br />
$10.00 per day<br />
$20.00 weekend pass<br />
<br />
 
STATUS:CONFIRMED
SEQUENCE:3
END:VEVENT
END:VCALENDAR