BEGIN:VCALENDAR
VERSION:2.0
CALSCALE:GREGORIAN
METHOD:REQUEST
PRODID:Erie Events
BEGIN:VEVENT
UID: 1261869ea81b400e8d@
SUMMARY:Alice Cooper 
DTSTAMP:20260423T163148
DTSTART:20250517T200000
DTEND:20250517T200000
LOCATION:809 French St. Erie, PA 16501
DESCRIPTION:May 17, 2025<br />
Show 8:00pm<br />
Doors 7:00pm<br />
<br />
Erie Insurance Arena<br />
<br />
Get ready for a night of rock &#039;n&#039; roll mayhem as the legendary Alice Cooper hits the road on his Too Close for Comfort tour! Known for his electrifying stage presence, dark theatrics, and timeless anthems, Alice Cooper promises a show that pushes the limits of shock rock and musical mastery. Experience all the hits, from School&#039;s Out to Poison, and witness his iconic blend of horror, humor, and heavy metal in an unforgettable live performance. This is one concert you don’t want to miss—prepare to get Too Close for Comfort! www.alicecooper.com<br />
<br />
ALICE COOPER FRONT ROW PACKAGE $679.23<br />
One Reserved Front Row Ticket<br />
Individual Photograph with Alice Cooper<br />
Autographed Alice Cooper Commemorative Poster<br />
Official Alice Cooper Set List<br />
Specially Designed Exclusive Merchandise<br />
Very Limited Availability<br />
<br />
BUY FRONT ROW PACKAGE<br />
<br />
ALICE COOPER DIAMOND PACKAGE $652.52<br />
One Reserved Ticket in Rows 2-5<br />
Individual Photograph with Alice Cooper<br />
Autographed Alice Cooper Commemorative Poster<br />
Official Alice Cooper Set List<br />
Specially Designed Exclusive Merchandise<br />
Limited Availability<br />
<br />
BUY DIAMOND PACKAGE<br />
<br />
ALICE COOPER VIP MERCHANDISE PACKAGE $225.07<br />
One P1 Reserved Concert Ticket<br />
Collectible Alice Cooper Merchandise<br />
Limited Availability<br />
<br />
BUY NOW<br />
<br />
Tickets can be purchased at the Erie Insurance Arena box office or by calling (814) 452-4857<br />
<br />
BUY TICKETS
STATUS:CONFIRMED
SEQUENCE:3
END:VEVENT
END:VCALENDAR