BEGIN:VCALENDAR
VERSION:2.0
CALSCALE:GREGORIAN
METHOD:REQUEST
PRODID:Erie Events
BEGIN:VEVENT
UID: 1554969e52c9d1f46d@
SUMMARY:The Mutt Gala
DTSTAMP:20260419T152725
DTSTART:20250426T173000
DTEND:20250426T223000
LOCATION:1 Sassafras Pier Erie, PA 16507
DESCRIPTION:Saturday, April 26, 2025<br />
5:30pm - 10:30pm<br />
<br />
Bayfront Convention Center<br />
<br />
Get ready to be dazzled at our fourth annual Mutt Gala, where we celebrate the incredible transformation of our rescue pets—our very own “Diamonds in the Ruff.” With a little love, care, and the unwavering support of friends like you, these pets truly shine, revealing their sparkling personalities and potential.<br />
<br />
We’re putting our four-legged stars in the spotlight as they strut down the runway, showing off just how far they’ve come. Are you ready to help us uncover even more diamonds in the “ruff”? It’s your generosity that makes it all possible.<br />
<br />
As Erie’s longest-standing, no-kill animal shelter, we rely on donations, grants, and events like this to keep our<br />
mission alive—providing shelter, love, and life-saving medical care to thousands of pets each year.<br />
<br />
Proceeds from the Mutt Gala will be dedicated to the important care we provide our pets every day, ensuring they receive the help they need to be rescued, rehabilitated, and rehomed into the loving families they deserve.<br />
<br />
Join us in giving these pets the spotlight they deserve, and together, we’ll help them shine even brighter!<br />
<br />
Enjoy a sit-down dinner, drinks, music, doggie fashion show, dancing, and more, as we raise necessary funds for the care of our shelter pets.<br />
<br />
Tickets: $99.00 each<br />
<br />
Formal &quot;With Flair&quot; attire encouraged.<br />
<br />
Tickets can be purchased at www.eriehumanesociety.org
STATUS:CONFIRMED
SEQUENCE:3
END:VEVENT
END:VCALENDAR