BEGIN:VCALENDAR
VERSION:2.0
CALSCALE:GREGORIAN
METHOD:REQUEST
PRODID:Erie Events
BEGIN:VEVENT
UID: 415569e76514d467e@
SUMMARY:AAA Erie Travel Expo 
DTSTAMP:20260421T075252
DTSTART:20250316T100000
DTEND:20250316T170000
LOCATION:1 Sassafras Pier Erie, PA 16507
DESCRIPTION:March 16, 2025<br />
10:00am-5:00pm<br />
<br />
Bayfront Convention Center<br />
<br />
Save time and money at the Erie Travel Show, presented by AAA Travel! Get access to show offers, and meet one-on-one with travel representatives from major cruise lines, railway, and tour companies to discuss destinations, attractions, and more.<br />
<br />
Admission is complimentary. No tickets required. Open to the public.<br />
<br />
Find more information here <br />
<br />
 
STATUS:CONFIRMED
SEQUENCE:3
END:VEVENT
END:VCALENDAR