BEGIN:VCALENDAR
VERSION:2.0
CALSCALE:GREGORIAN
METHOD:REQUEST
PRODID:Erie Events
BEGIN:VEVENT
UID: 199669eba35133fd9@
SUMMARY:Home &amp; Garden Expo
DTSTAMP:20260424T130729
DTSTART:20250322T100000
DTEND:20250322T190000
LOCATION:1 Sassafras Pier Erie, PA 16507
DESCRIPTION:March 21, 2025<br />
12:00pm - 7:00pm<br />
March 22, 2025<br />
10:00am - 7:00pm<br />
March 23, 2025<br />
11:00am - 4:00pm<br />
<br />
Bayfront Convention Center<br />
Adult day pass $7.00<br />
Children 10 &amp; under free<br />
<br />
Tickets can be purchased at the Erie Insurance Arena box office or by calling (814) 452-4857<br />
<br />
BUY TICKETS
STATUS:CONFIRMED
SEQUENCE:3
END:VEVENT
END:VCALENDAR