BEGIN:VCALENDAR
VERSION:2.0
CALSCALE:GREGORIAN
METHOD:REQUEST
PRODID:Erie Events
BEGIN:VEVENT
UID: 1463569e73ef1c50b6@
SUMMARY:Boat &amp; Fishing Expo
DTSTAMP:20260421T051009
DTSTART:20250228T120000
DTEND:20250228T190000
LOCATION:1 Sassafras Pier Erie, PA 16507
DESCRIPTION:February 28, 2025<br />
12:00pm - 7:00pm<br />
March 1, 2025<br />
10:00am - 7:00pm<br />
March 2, 2025<br />
11:00am - 4:00pm<br />
<br />
Bayfront Convention Center<br />
<br />
$6 Admission<br />
Children 10 and under are free<br />
<br />
Tickets can be purchased at the Erie Insurance Arena box office or by calling (814) 452-4857<br />
<br />
BUY TICKETS
STATUS:CONFIRMED
SEQUENCE:3
END:VEVENT
END:VCALENDAR