BEGIN:VCALENDAR
VERSION:2.0
CALSCALE:GREGORIAN
METHOD:REQUEST
PRODID:Erie Events
BEGIN:VEVENT
UID: 2080069e73f538c7da@
SUMMARY:Cathedral Prep Legacy Gala
DTSTAMP:20260421T051147
DTSTART:20250208T173000
DTEND:20250208T230000
LOCATION:1 Sassafras Pier Erie, PA 16507
DESCRIPTION:February 8, 2025<br />
5:30pm-11:00pm<br />
<br />
Bayfront Convention Center<br />
<br />
Tickets $135.00<br />
<br />
www.cathedralprep.com
STATUS:CONFIRMED
SEQUENCE:3
END:VEVENT
END:VCALENDAR